Package: bcSeq Version: 1.28.0 Command: /home/biocbuild/R/R/bin/R CMD check --install=check:bcSeq.install-out.txt --library=/home/biocbuild/R/R/site-library --no-vignettes --timings bcSeq_1.28.0.tar.gz StartedAt: 2025-02-04 04:38:12 -0000 (Tue, 04 Feb 2025) EndedAt: 2025-02-04 04:40:45 -0000 (Tue, 04 Feb 2025) EllapsedTime: 153.3 seconds RetCode: 0 Status: WARNINGS CheckDir: bcSeq.Rcheck Warnings: 1