Package: beachmat.hdf5 Version: 1.4.0 Command: rm -rf beachmat.hdf5.buildbin-libdir && mkdir beachmat.hdf5.buildbin-libdir && /Users/biocbuild/BBS/utils/build-universal.sh beachmat.hdf5_1.4.0.tar.gz /Library/Frameworks/R.framework/Resources/bin/R beachmat.hdf5.buildbin-libdir StartedAt: 2025-02-05 14:55:11 -0500 (Wed, 05 Feb 2025) EndedAt: 2025-02-05 14:56:10 -0500 (Wed, 05 Feb 2025) EllapsedTime: 59.8 seconds RetCode: 0 Status: OK PackageFile: beachmat.hdf5_1.4.0.tgz PackageFileSize: 1.658 MiB