Package: beachmat.hdf5 Version: 1.4.0 Command: /Library/Frameworks/R.framework/Resources/bin/R CMD INSTALL beachmat.hdf5 StartedAt: 2025-02-03 15:25:28 -0500 (Mon, 03 Feb 2025) EndedAt: 2025-02-03 15:26:23 -0500 (Mon, 03 Feb 2025) EllapsedTime: 54.4 seconds RetCode: 0 Status: OK