Package: beachmat.hdf5 Version: 1.4.0 Command: /home/biocbuild/bbs-3.20-bioc/R/bin/R CMD build --keep-empty-dirs --no-resave-data --md5 beachmat.hdf5 StartedAt: 2025-02-03 16:27:31 -0500 (Mon, 03 Feb 2025) EndedAt: 2025-02-03 16:28:42 -0500 (Mon, 03 Feb 2025) EllapsedTime: 71.1 seconds RetCode: 0 Status: OK PackageFile: beachmat.hdf5_1.4.0.tar.gz PackageFileSize: 296.7 KiB