Package: beachmat.hdf5 Version: 1.4.0 Command: rm -rf beachmat.hdf5.buildbin-libdir && mkdir beachmat.hdf5.buildbin-libdir && F:\biocbuild\bbs-3.20-bioc\R\bin\R.exe CMD INSTALL --build --library=beachmat.hdf5.buildbin-libdir beachmat.hdf5_1.4.0.tar.gz StartedAt: 2025-02-04 08:01:38 -0500 (Tue, 04 Feb 2025) EndedAt: 2025-02-04 08:03:00 -0500 (Tue, 04 Feb 2025) EllapsedTime: 81.6 seconds RetCode: 0 Status: OK PackageFile: beachmat.hdf5_1.4.0.zip PackageFileSize: 1.941 MiB