Package: beachmat.hdf5 Version: 1.4.0 Command: /home/biocbuild/R/R/bin/R CMD build --keep-empty-dirs --no-resave-data beachmat.hdf5 StartedAt: 2025-02-03 21:49:36 -0000 (Mon, 03 Feb 2025) EndedAt: 2025-02-03 21:51:11 -0000 (Mon, 03 Feb 2025) EllapsedTime: 95.0 seconds RetCode: 0 Status: OK PackageFile: beachmat.hdf5_1.4.0.tar.gz PackageFileSize: 360.7 KiB