Package: beachmat Version: 2.22.0 Command: /Library/Frameworks/R.framework/Resources/bin/R CMD INSTALL beachmat StartedAt: 2025-02-03 15:19:49 -0500 (Mon, 03 Feb 2025) EndedAt: 2025-02-03 15:26:26 -0500 (Mon, 03 Feb 2025) EllapsedTime: 396.7 seconds RetCode: 0 Status: OK