Package: beachmat Version: 2.22.0 Command: F:\biocbuild\bbs-3.20-bioc\R\bin\R.exe CMD INSTALL beachmat StartedAt: 2025-02-10 15:45:58 -0500 (Mon, 10 Feb 2025) EndedAt: 2025-02-10 15:50:37 -0500 (Mon, 10 Feb 2025) EllapsedTime: 278.5 seconds RetCode: 0 Status: OK