Package: beadarray Version: 2.56.0 Command: /Library/Frameworks/R.framework/Resources/bin/R CMD build --keep-empty-dirs --no-resave-data beadarray StartedAt: 2025-02-03 19:14:43 -0500 (Mon, 03 Feb 2025) EndedAt: 2025-02-03 19:17:37 -0500 (Mon, 03 Feb 2025) EllapsedTime: 174.3 seconds RetCode: 1 Status: ERROR PackageFile: None PackageFileSize: NA