Package: beadarray Version: 2.56.0 Command: /Library/Frameworks/R.framework/Resources/bin/R CMD INSTALL beadarray StartedAt: 2025-02-03 15:42:24 -0500 (Mon, 03 Feb 2025) EndedAt: 2025-02-03 15:42:40 -0500 (Mon, 03 Feb 2025) EllapsedTime: 16.1 seconds RetCode: 0 Status: OK