Package: beadarray Version: 2.56.0 Command: rm -rf beadarray.buildbin-libdir && mkdir beadarray.buildbin-libdir && F:\biocbuild\bbs-3.20-bioc\R\bin\R.exe CMD INSTALL --build --library=beadarray.buildbin-libdir beadarray_2.56.0.tar.gz StartedAt: 2025-02-04 08:01:40 -0500 (Tue, 04 Feb 2025) EndedAt: 2025-02-04 08:03:37 -0500 (Tue, 04 Feb 2025) EllapsedTime: 117.2 seconds RetCode: 0 Status: OK PackageFile: beadarray_2.56.0.zip PackageFileSize: 4.761 MiB