Package: beadarray Version: 2.56.0 Command: chmod a+r beadarray -R && F:\biocbuild\bbs-3.20-bioc\R\bin\R.exe CMD build --keep-empty-dirs --no-resave-data beadarray StartedAt: 2025-02-03 17:38:59 -0500 (Mon, 03 Feb 2025) EndedAt: 2025-02-03 17:43:46 -0500 (Mon, 03 Feb 2025) EllapsedTime: 287.1 seconds RetCode: 0 Status: OK PackageFile: beadarray_2.56.0.tar.gz PackageFileSize: 2.611 MiB