Package: beadarray Version: 2.56.0 Command: F:\biocbuild\bbs-3.20-bioc\R\bin\R.exe CMD check --no-multiarch --install=check:beadarray.install-out.txt --library=F:\biocbuild\bbs-3.20-bioc\R\library --no-vignettes --timings beadarray_2.56.0.tar.gz StartedAt: 2025-02-03 23:24:04 -0500 (Mon, 03 Feb 2025) EndedAt: 2025-02-03 23:32:57 -0500 (Mon, 03 Feb 2025) EllapsedTime: 532.9 seconds RetCode: 0 Status: OK CheckDir: beadarray.Rcheck Warnings: 0