Package: beer Version: 1.10.0 Command: rm -rf beer.buildbin-libdir && mkdir beer.buildbin-libdir && /Users/biocbuild/BBS/utils/build-universal.sh beer_1.10.0.tar.gz /Library/Frameworks/R.framework/Resources/bin/R beer.buildbin-libdir StartedAt: 2025-02-05 14:56:00 -0500 (Wed, 05 Feb 2025) EndedAt: 2025-02-05 14:56:37 -0500 (Wed, 05 Feb 2025) EllapsedTime: 37.0 seconds RetCode: 0 Status: OK PackageFile: beer_1.10.0.tgz PackageFileSize: 702 KiB