Package: beer Version: 1.10.0 Command: /Library/Frameworks/R.framework/Resources/bin/R CMD INSTALL beer StartedAt: 2025-02-03 16:28:39 -0500 (Mon, 03 Feb 2025) EndedAt: 2025-02-03 16:29:13 -0500 (Mon, 03 Feb 2025) EllapsedTime: 34.1 seconds RetCode: 0 Status: OK