Package: beer Version: 1.10.0 Command: /Library/Frameworks/R.framework/Resources/bin/R CMD check --install=check:beer.install-out.txt --library=/Library/Frameworks/R.framework/Resources/library --no-vignettes --timings beer_1.10.0.tar.gz StartedAt: 2025-02-04 00:07:02 -0500 (Tue, 04 Feb 2025) EndedAt: 2025-02-04 00:33:21 -0500 (Tue, 04 Feb 2025) EllapsedTime: 1578.2 seconds RetCode: 0 Status: OK CheckDir: beer.Rcheck Warnings: 0