Package: beer Version: 1.10.0 Command: /Library/Frameworks/R.framework/Resources/bin/R CMD INSTALL beer StartedAt: 2025-02-03 15:54:29 -0500 (Mon, 03 Feb 2025) EndedAt: 2025-02-03 15:55:28 -0500 (Mon, 03 Feb 2025) EllapsedTime: 59.0 seconds RetCode: 0 Status: OK