Package: beer Version: 1.10.0 Command: /home/biocbuild/bbs-3.20-bioc/R/bin/R CMD build --keep-empty-dirs --no-resave-data --md5 beer StartedAt: 2025-02-03 16:28:28 -0500 (Mon, 03 Feb 2025) EndedAt: 2025-02-03 16:30:13 -0500 (Mon, 03 Feb 2025) EllapsedTime: 105.1 seconds RetCode: 0 Status: OK PackageFile: beer_1.10.0.tar.gz PackageFileSize: 647 KiB