Package: beer Version: 1.10.0 Command: F:\biocbuild\bbs-3.20-bioc\R\bin\R.exe CMD check --no-multiarch --install=check:beer.install-out.txt --library=F:\biocbuild\bbs-3.20-bioc\R\library --no-vignettes --timings beer_1.10.0.tar.gz StartedAt: 2025-02-03 23:25:37 -0500 (Mon, 03 Feb 2025) EndedAt: 2025-02-03 23:51:17 -0500 (Mon, 03 Feb 2025) EllapsedTime: 1540.4 seconds RetCode: 0 Status: OK CheckDir: beer.Rcheck Warnings: 0