Package: benchdamic
Version: 1.11.1
Command: /Library/Frameworks/R.framework/Resources/bin/R CMD check --install=check:benchdamic.install-out.txt --library=/Library/Frameworks/R.framework/Resources/library --no-vignettes --timings benchdamic_1.11.1.tar.gz
StartedAt: 2024-10-15 19:33:25 -0400 (Tue, 15 Oct 2024)
EndedAt: 2024-10-15 19:37:34 -0400 (Tue, 15 Oct 2024)
EllapsedTime: 248.7 seconds
RetCode: 0
Status: OK
CheckDir: benchdamic.Rcheck
Warnings: 0