Package: benchdamic Version: 1.12.2 Command: /Library/Frameworks/R.framework/Resources/bin/R CMD build --keep-empty-dirs --no-resave-data benchdamic StartedAt: 2025-02-03 17:16:10 -0500 (Mon, 03 Feb 2025) EndedAt: 2025-02-03 17:56:11 -0500 (Mon, 03 Feb 2025) EllapsedTime: 2400.3 seconds RetCode: None Status: TIMEOUT PackageFile: None PackageFileSize: NA