Package: benchdamic Version: 1.12.2 Command: /home/biocbuild/bbs-3.20-bioc/R/bin/R CMD build --keep-empty-dirs --no-resave-data --md5 benchdamic StartedAt: 2025-02-03 16:28:42 -0500 (Mon, 03 Feb 2025) EndedAt: 2025-02-03 16:48:03 -0500 (Mon, 03 Feb 2025) EllapsedTime: 1161.1 seconds RetCode: 0 Status: OK PackageFile: benchdamic_1.12.2.tar.gz PackageFileSize: 5.453 MiB