Package: benchdamic Version: 1.12.2 Command: /home/biocbuild/bbs-3.20-bioc/R/bin/R CMD check --install=check:benchdamic.install-out.txt --library=/home/biocbuild/bbs-3.20-bioc/R/site-library --timings benchdamic_1.12.2.tar.gz StartedAt: 2025-02-03 20:19:12 -0500 (Mon, 03 Feb 2025) EndedAt: 2025-02-03 20:48:00 -0500 (Mon, 03 Feb 2025) EllapsedTime: 1727.6 seconds RetCode: 0 Status: OK CheckDir: benchdamic.Rcheck Warnings: 0