Package: betaHMM Version: 1.2.1 Command: F:\biocbuild\bbs-3.20-bioc\R\bin\R.exe CMD check --no-multiarch --install=check:betaHMM.install-out.txt --library=F:\biocbuild\bbs-3.20-bioc\R\library --no-vignettes --timings betaHMM_1.2.1.tar.gz StartedAt: 2025-02-03 23:26:27 -0500 (Mon, 03 Feb 2025) EndedAt: 2025-02-03 23:41:43 -0500 (Mon, 03 Feb 2025) EllapsedTime: 915.5 seconds RetCode: 0 Status: OK CheckDir: betaHMM.Rcheck Warnings: 0