Package: bettr Version: 1.2.0 Command: /Library/Frameworks/R.framework/Resources/bin/R CMD build --keep-empty-dirs --no-resave-data bettr StartedAt: 2025-01-30 17:20:20 -0500 (Thu, 30 Jan 2025) EndedAt: 2025-01-30 17:22:05 -0500 (Thu, 30 Jan 2025) EllapsedTime: 104.9 seconds RetCode: 0 Status: OK PackageFile: bettr_1.2.0.tar.gz PackageFileSize: 2.582 MiB