Package: bettr Version: 1.2.0 Command: /Library/Frameworks/R.framework/Resources/bin/R CMD check --install=check:bettr.install-out.txt --library=/Library/Frameworks/R.framework/Resources/library --no-vignettes --timings bettr_1.2.0.tar.gz StartedAt: 2025-02-04 00:09:30 -0500 (Tue, 04 Feb 2025) EndedAt: 2025-02-04 00:17:24 -0500 (Tue, 04 Feb 2025) EllapsedTime: 474.0 seconds RetCode: 0 Status: OK CheckDir: bettr.Rcheck Warnings: 0