Package: bettr Version: 1.2.0 Command: /Library/Frameworks/R.framework/Resources/bin/R CMD INSTALL bettr StartedAt: 2025-01-30 16:02:53 -0500 (Thu, 30 Jan 2025) EndedAt: 2025-01-30 16:03:50 -0500 (Thu, 30 Jan 2025) EllapsedTime: 57.3 seconds RetCode: 0 Status: OK