Package: bettr Version: 1.2.0 Command: chmod a+r bettr -R && F:\biocbuild\bbs-3.20-bioc\R\bin\R.exe CMD build --keep-empty-dirs --no-resave-data bettr StartedAt: 2025-01-30 17:27:46 -0500 (Thu, 30 Jan 2025) EndedAt: 2025-01-30 17:28:45 -0500 (Thu, 30 Jan 2025) EllapsedTime: 58.3 seconds RetCode: 0 Status: OK PackageFile: bettr_1.2.0.tar.gz PackageFileSize: 2.363 MiB