Package: bettr Version: 1.2.0 Command: /home/biocbuild/R/R/bin/R CMD check --install=check:bettr.install-out.txt --library=/home/biocbuild/R/R/site-library --no-vignettes --timings bettr_1.2.0.tar.gz StartedAt: 2025-01-31 04:05:40 -0000 (Fri, 31 Jan 2025) EndedAt: 2025-01-31 04:10:29 -0000 (Fri, 31 Jan 2025) EllapsedTime: 288.4 seconds RetCode: 0 Status: OK CheckDir: bettr.Rcheck Warnings: 0