Package: bettr Version: 1.2.0 Command: /home/biocbuild/R/R/bin/R CMD INSTALL bettr StartedAt: 2025-02-03 20:57:58 -0000 (Mon, 03 Feb 2025) EndedAt: 2025-02-03 20:58:30 -0000 (Mon, 03 Feb 2025) EllapsedTime: 32.1 seconds RetCode: 0 Status: OK