Package: bgx Version: 1.72.0 Command: rm -rf bgx.buildbin-libdir && mkdir bgx.buildbin-libdir && /Users/biocbuild/BBS/utils/build-universal.sh bgx_1.72.0.tar.gz /Library/Frameworks/R.framework/Resources/bin/R bgx.buildbin-libdir StartedAt: 2025-02-05 14:57:07 -0500 (Wed, 05 Feb 2025) EndedAt: 2025-02-05 14:57:46 -0500 (Wed, 05 Feb 2025) EllapsedTime: 38.6 seconds RetCode: 0 Status: OK PackageFile: bgx_1.72.0.tgz PackageFileSize: 391.4 KiB