Package: bgx Version: 1.72.0 Command: /Library/Frameworks/R.framework/Resources/bin/R CMD INSTALL bgx StartedAt: 2025-02-03 15:30:54 -0500 (Mon, 03 Feb 2025) EndedAt: 2025-02-03 15:31:11 -0500 (Mon, 03 Feb 2025) EllapsedTime: 17.5 seconds RetCode: 0 Status: OK