Package: bgx Version: 1.72.0 Command: /Library/Frameworks/R.framework/Resources/bin/R CMD INSTALL bgx StartedAt: 2025-02-03 15:23:30 -0500 (Mon, 03 Feb 2025) EndedAt: 2025-02-03 15:24:38 -0500 (Mon, 03 Feb 2025) EllapsedTime: 67.8 seconds RetCode: 0 Status: OK