Package: bgx Version: 1.72.0 Command: /home/biocbuild/bbs-3.20-bioc/R/bin/R CMD build --keep-empty-dirs --no-resave-data --md5 bgx StartedAt: 2025-02-03 16:30:07 -0500 (Mon, 03 Feb 2025) EndedAt: 2025-02-03 16:30:37 -0500 (Mon, 03 Feb 2025) EllapsedTime: 30.0 seconds RetCode: 1 Status: ERROR PackageFile: None PackageFileSize: NA