Package: bgx Version: 1.72.0 Command: /home/biocbuild/bbs-3.20-bioc/R/bin/R CMD INSTALL bgx StartedAt: 2025-02-03 15:20:18 -0500 (Mon, 03 Feb 2025) EndedAt: 2025-02-03 15:20:43 -0500 (Mon, 03 Feb 2025) EllapsedTime: 24.8 seconds RetCode: 0 Status: OK