Package: bigmelon Version: 1.32.0 Command: /Library/Frameworks/R.framework/Resources/bin/R CMD INSTALL bigmelon StartedAt: 2025-02-03 16:49:26 -0500 (Mon, 03 Feb 2025) EndedAt: 2025-02-03 16:51:16 -0500 (Mon, 03 Feb 2025) EllapsedTime: 110.1 seconds RetCode: 0 Status: OK