Package: bigmelon
Version: 1.31.1
Command: rm -rf bigmelon.buildbin-libdir && mkdir bigmelon.buildbin-libdir && C:\Users\biocbuild\bbs-3.20-bioc\R\bin\R.exe CMD INSTALL --build --library=bigmelon.buildbin-libdir bigmelon_1.31.1.tar.gz
StartedAt: 2024-07-16 05:56:05 -0400 (Tue, 16 Jul 2024)
EndedAt: 2024-07-16 05:57:20 -0400 (Tue, 16 Jul 2024)
EllapsedTime: 75.0 seconds
RetCode: 0
Status: OK
PackageFile: bigmelon_1.31.1.zip
PackageFileSize: 1.205 <A href="http://en.wikipedia.org/wiki/MiB" target="_blank">MiB</A>