Package: bioCancer Version: 1.34.0 Command: rm -rf bioCancer.buildbin-libdir && mkdir bioCancer.buildbin-libdir && /Users/biocbuild/BBS/utils/build-universal.sh bioCancer_1.34.0.tar.gz /Library/Frameworks/R.framework/Resources/bin/R bioCancer.buildbin-libdir StartedAt: 2025-02-05 14:57:57 -0500 (Wed, 05 Feb 2025) EndedAt: 2025-02-05 14:59:09 -0500 (Wed, 05 Feb 2025) EllapsedTime: 71.9 seconds RetCode: 0 Status: OK PackageFile: bioCancer_1.34.0.tgz PackageFileSize: 7.419 MiB