Package: bioCancer Version: 1.34.0 Command: /Library/Frameworks/R.framework/Resources/bin/R CMD INSTALL bioCancer StartedAt: 2025-02-03 17:55:57 -0500 (Mon, 03 Feb 2025) EndedAt: 2025-02-03 17:57:03 -0500 (Mon, 03 Feb 2025) EllapsedTime: 65.4 seconds RetCode: 0 Status: OK