Package: bioCancer Version: 1.34.0 Command: F:\biocbuild\bbs-3.20-bioc\R\bin\R.exe CMD INSTALL bioCancer StartedAt: 2025-02-03 16:45:54 -0500 (Mon, 03 Feb 2025) EndedAt: 2025-02-03 16:48:06 -0500 (Mon, 03 Feb 2025) EllapsedTime: 132.3 seconds RetCode: 0 Status: OK