Package: bioCancer
Version: 1.34.0
Command: /home/biocbuild/R/R/bin/R CMD INSTALL bioCancer
StartedAt: 2025-02-17 21:12:33 -0000 (Mon, 17 Feb 2025)
EndedAt: 2025-02-17 21:13:40 -0000 (Mon, 17 Feb 2025)
EllapsedTime: 67.0 seconds
RetCode: 0
Status: OK