Package: bioDist Version: 1.78.0 Command: /Library/Frameworks/R.framework/Resources/bin/R CMD check --install=check:bioDist.install-out.txt --library=/Library/Frameworks/R.framework/Resources/library --no-vignettes --timings bioDist_1.78.0.tar.gz StartedAt: 2025-02-04 12:46:49 -0500 (Tue, 04 Feb 2025) EndedAt: 2025-02-04 12:47:22 -0500 (Tue, 04 Feb 2025) EllapsedTime: 32.7 seconds RetCode: 0 Status: OK CheckDir: bioDist.Rcheck Warnings: 0