Package: bioDist
Version: 1.77.0
Command: F:\biocbuild\bbs-3.20-bioc\R\bin\R.exe CMD check --no-multiarch --install=check:bioDist.install-out.txt --library=F:\biocbuild\bbs-3.20-bioc\R\library --no-vignettes --timings bioDist_1.77.0.tar.gz
StartedAt: 2024-06-10 00:21:27 -0400 (Mon, 10 Jun 2024)
EndedAt: 2024-06-10 00:22:17 -0400 (Mon, 10 Jun 2024)
EllapsedTime: 50.3 seconds
RetCode: 0
Status: OK
CheckDir: bioDist.Rcheck
Warnings: 0