Package: bioDist Version: 1.78.0 Command: /home/biocbuild/R/R/bin/R CMD INSTALL bioDist StartedAt: 2025-02-03 20:22:05 -0000 (Mon, 03 Feb 2025) EndedAt: 2025-02-03 20:22:17 -0000 (Mon, 03 Feb 2025) EllapsedTime: 12.2 seconds RetCode: 0 Status: OK