Package: bioDist
Version: 1.78.0
Command: /home/biocbuild/bbs-3.20-bioc/R/bin/R CMD check --install=check:bioDist.install-out.txt --library=/home/biocbuild/bbs-3.20-bioc/R/site-library --timings bioDist_1.78.0.tar.gz
StartedAt: 2024-11-19 23:31:29 -0500 (Tue, 19 Nov 2024)
EndedAt: 2024-11-19 23:31:56 -0500 (Tue, 19 Nov 2024)
EllapsedTime: 27.0 seconds
RetCode: 0
Status: OK
CheckDir: bioDist.Rcheck
Warnings: 0