Package: biobroom Version: 1.38.0 Command: F:\biocbuild\bbs-3.20-bioc\R\bin\R.exe CMD INSTALL biobroom StartedAt: 2025-02-03 15:40:27 -0500 (Mon, 03 Feb 2025) EndedAt: 2025-02-03 15:40:47 -0500 (Mon, 03 Feb 2025) EllapsedTime: 20.6 seconds RetCode: 0 Status: OK