Package: biobtreeR Version: 1.18.0 Command: rm -rf biobtreeR.buildbin-libdir && mkdir biobtreeR.buildbin-libdir && /Users/biocbuild/BBS/utils/build-universal.sh biobtreeR_1.18.0.tar.gz /Library/Frameworks/R.framework/Resources/bin/R biobtreeR.buildbin-libdir StartedAt: 2024-11-20 04:15:44 -0500 (Wed, 20 Nov 2024) EndedAt: 2024-11-20 04:15:51 -0500 (Wed, 20 Nov 2024) EllapsedTime: 6.8 seconds RetCode: 0 Status: OK PackageFile: biobtreeR_1.18.0.tgz PackageFileSize: 978.9 KiB