Package: biobtreeR Version: 1.18.0 Command: /Library/Frameworks/R.framework/Resources/bin/R CMD build --keep-empty-dirs --no-resave-data biobtreeR StartedAt: 2025-02-03 17:20:42 -0500 (Mon, 03 Feb 2025) EndedAt: 2025-02-03 17:22:27 -0500 (Mon, 03 Feb 2025) EllapsedTime: 104.5 seconds RetCode: 0 Status: OK PackageFile: biobtreeR_1.18.0.tar.gz PackageFileSize: 938.2 KiB