Package: biobtreeR Version: 1.18.0 Command: /Library/Frameworks/R.framework/Resources/bin/R CMD check --install=check:biobtreeR.install-out.txt --library=/Library/Frameworks/R.framework/Resources/library --no-vignettes --timings biobtreeR_1.18.0.tar.gz StartedAt: 2025-02-04 00:13:47 -0500 (Tue, 04 Feb 2025) EndedAt: 2025-02-04 00:14:51 -0500 (Tue, 04 Feb 2025) EllapsedTime: 63.7 seconds RetCode: 0 Status: OK CheckDir: biobtreeR.Rcheck Warnings: 0