Package: biobtreeR Version: 1.18.0 Command: /Library/Frameworks/R.framework/Resources/bin/R CMD INSTALL biobtreeR StartedAt: 2025-02-03 15:19:25 -0500 (Mon, 03 Feb 2025) EndedAt: 2025-02-03 15:19:49 -0500 (Mon, 03 Feb 2025) EllapsedTime: 24.0 seconds RetCode: 0 Status: OK